BEGIN:VCALENDAR
VERSION:2.0
PRODID:-//Big Chick Energy Sketch - ECPv6.15.20//NONSGML v1.0//EN
CALSCALE:GREGORIAN
METHOD:PUBLISH
X-ORIGINAL-URL:https://bigchickenergysketch.com
X-WR-CALDESC:Events for Big Chick Energy Sketch
REFRESH-INTERVAL;VALUE=DURATION:PT1H
X-Robots-Tag:noindex
X-PUBLISHED-TTL:PT1H
BEGIN:VTIMEZONE
TZID:America/Toronto
BEGIN:DAYLIGHT
TZOFFSETFROM:-0500
TZOFFSETTO:-0400
TZNAME:EDT
DTSTART:20190310T070000
END:DAYLIGHT
BEGIN:STANDARD
TZOFFSETFROM:-0400
TZOFFSETTO:-0500
TZNAME:EST
DTSTART:20191103T060000
END:STANDARD
BEGIN:DAYLIGHT
TZOFFSETFROM:-0500
TZOFFSETTO:-0400
TZNAME:EDT
DTSTART:20200308T070000
END:DAYLIGHT
BEGIN:STANDARD
TZOFFSETFROM:-0400
TZOFFSETTO:-0500
TZNAME:EST
DTSTART:20201101T060000
END:STANDARD
BEGIN:DAYLIGHT
TZOFFSETFROM:-0500
TZOFFSETTO:-0400
TZNAME:EDT
DTSTART:20210314T070000
END:DAYLIGHT
BEGIN:STANDARD
TZOFFSETFROM:-0400
TZOFFSETTO:-0500
TZNAME:EST
DTSTART:20211107T060000
END:STANDARD
END:VTIMEZONE
BEGIN:VEVENT
DTSTART;TZID=America/Toronto:20200402T220000
DTEND;TZID=America/Toronto:20200402T230000
DTSTAMP:20260423T063219
CREATED:20200310T034106Z
LAST-MODIFIED:20200310T034107Z
UID:1127-1585864800-1585868400@bigchickenergysketch.com
SUMMARY:Weird Flex Sketch Show April Edition!
DESCRIPTION:Big Chick Energy is part of a monthly sketch show in Toronto called Weird Flex!\nOh my gosh we are BACK for another round of Weird Flex Sketch Show! The show full of sketch comedy! That plays monthly! Well almost\, we couldn’t find a venue for March and then one of us went on vacation so we’re figuring stuff out. Okay? Okay. GREAT. \nTHIS MONTH features a brand spankin’ new lineup with an amazing guest act performance by Craig Scorgie\, fresh off the Toronto Sketchfest circuit! A REAL SKETCH SUPERSTAR! \nCome back out to The Social Capital Theatre on April 2 at 10 P.M. with $5 in your hawt lil paws TO SEE SOME PHUNKY PHRESH NEW PHCOMEDY! \nLineup:\n\nCraig Scorgie\nDad Kiss Fantasy\nBig Chick Energy Sketch\n\nOH MAN OH MAN! \nMore event details here >>
URL:https://bigchickenergysketch.com/shows/weird-flex-sketch-show-april-edition/
LOCATION:The Social Capital Theatre\, 154 Danforth Avenue\, Toronto\, Ontario\, M4K 1N1\, Canada
CATEGORIES:Weird Flex Sketch Show
ATTACH;FMTTYPE=image/jpeg:https://bigchickenergysketch.com/wp-content/uploads/2020/03/Weird-Flex-FB-Event-April-2-100.jpg
END:VEVENT
END:VCALENDAR